BEGIN:VCALENDAR
VERSION:2.0
PRODID:icalendar-ruby
CALSCALE:GREGORIAN
METHOD:PUBLISH
BEGIN:VEVENT
DTSTAMP:20260422T142033Z
UID:447-2535687@stphilipsdunbar.com
DTSTART:20260524T020000Z
DTEND:20260524T033000Z
CLASS:PUBLIC
CREATED:20260421T141506
DESCRIPTION:Join us for Michael Murray's last singalong!      Groove and
  singalong to favourites from The Beatles\, The Beach Boys\, Simon &amp\; 
 Garfunkel and more.
LAST-MODIFIED:20260421T141506
LOCATION:
SUMMARY:Here Comes the Sun Singalong
URL;VALUE=URI:https://www.stphilipsdunbar.com/events/here-comes-the-sun-sin
 galong/2026-05-23
ATTACH;FILENAME=04-24-26-Singalong.jpg;FMTTYPE=image/jpeg:https://dq5pwpg1q
 8ru0.cloudfront.net/2026/04/21/21/15/06/b3bbfbe9-c7e2-4c25-8071-e765771d2d
 29/04-24-26-Singalong.jpg
END:VEVENT
END:VCALENDAR
